BEGIN:VCALENDAR
VERSION:2.0
PRODID:-//Geethanjali
CALSCALE:GREGORIAN
METHOD:PUBLISH
X-WR-CALNAME:Geethanjali
X-ORIGINAL-URL:https://gist.edu.in/gist/event/report-on-webinar-on-career-opportunities-after-b-tech-_-me/
X-WR-CALDESC:Report on Webinar on Career Opportunities After B.Tech _ ME
BEGIN:VEVENT
DTSTART:
DTEND:
SUMMARY:Report on Webinar on Career Opportunities After B.Tech _ ME
DESCRIPTION:Report on Webinar on Career Opportunities After B.Tech _ ME
LOCATION:
END:VEVENT
END:VCALENDAR
