BEGIN:VCALENDAR
VERSION:2.0
PRODID:-//Geethanjali
CALSCALE:GREGORIAN
METHOD:PUBLISH
X-WR-CALNAME:Geethanjali
X-ORIGINAL-URL:https://gist.edu.in/gist/event/report-on-a-live-webinar-on-electronic-ic-chip-packaging-for-vlsi-engineers-and-related-scope-in-industry/
X-WR-CALDESC:Report On “A Live Webinar on “Electronic IC Chip packaging for VLSI Engineers and Related scope in Industry.”
BEGIN:VEVENT
DTSTART:
DTEND:
SUMMARY:Report On “A Live Webinar on “Electronic IC Chip packaging for VLSI Engineers and Related scope in Industry.”
DESCRIPTION:Report On
“A Live Webinar on “Electronic IC Chip packaging for VLSI Engineers and Related scope in Industry.” 

LOCATION:
END:VEVENT
END:VCALENDAR
