BEGIN:VCALENDAR
VERSION:2.0
PRODID:-//Geethanjali
CALSCALE:GREGORIAN
METHOD:PUBLISH
X-WR-CALNAME:Geethanjali
X-ORIGINAL-URL:https://gist.edu.in/gist/event/report-on-technical-lecture-on-matlab-for-electrical-engineers/
X-WR-CALDESC:Report on Technical Lecture on MATLAB for Electrical Engineers
BEGIN:VEVENT
DTSTART:
DTEND:
SUMMARY:Report on Technical Lecture on MATLAB for Electrical Engineers
DESCRIPTION:Report on Technical Lecture on MATLAB for Electrical Engineers
LOCATION:
END:VEVENT
END:VCALENDAR
