BEGIN:VCALENDAR
VERSION:2.0
PRODID:-//Geethanjali
CALSCALE:GREGORIAN
METHOD:PUBLISH
X-WR-CALNAME:Geethanjali
X-ORIGINAL-URL:https://gist.edu.in/gist/event/report-on-drones-careers-and-applications/
X-WR-CALDESC:Report on DRONES CAREERS AND APPLICATIONS
BEGIN:VEVENT
DTSTART:
DTEND:
SUMMARY:Report on DRONES CAREERS AND APPLICATIONS
DESCRIPTION:Report on DRONES CAREERS AND APPLICATIONS
LOCATION:
END:VEVENT
END:VCALENDAR
