BEGIN:VCALENDAR
VERSION:2.0
PRODID:-//Geethanjali
CALSCALE:GREGORIAN
METHOD:PUBLISH
X-WR-CALNAME:Geethanjali
X-ORIGINAL-URL:https://gist.edu.in/gist/event/srujana-2k21-national-level-symposium/
X-WR-CALDESC:SRUJANA-2K21 National Level Symposium
BEGIN:VEVENT
DTSTART:
DTEND:
SUMMARY:SRUJANA-2K21 National Level Symposium
DESCRIPTION:SRUJANA-2K21 National Level Symposium
LOCATION:
END:VEVENT
END:VCALENDAR
