BEGIN:VCALENDAR
VERSION:2.0
PRODID:-//Geethanjali
CALSCALE:GREGORIAN
METHOD:PUBLISH
X-WR-CALNAME:Geethanjali
X-ORIGINAL-URL:https://gist.edu.in/gist/event/report-on-how-to-crack-esegatepsu-in-first-attempt/
X-WR-CALDESC:Report on  How to Crack ESE|GATE|PSU in first attempt?”.
BEGIN:VEVENT
DTSTART:
DTEND:
SUMMARY:Report on  How to Crack ESE|GATE|PSU in first attempt?”.
DESCRIPTION:Report on 
How to Crack ESE|GATE|PSU in first attempt?”.

LOCATION:
END:VEVENT
END:VCALENDAR
