BEGIN:VCALENDAR
VERSION:2.0
PRODID:-//Geethanjali
CALSCALE:GREGORIAN
METHOD:PUBLISH
X-WR-CALNAME:Geethanjali
X-ORIGINAL-URL:https://gist.edu.in/gist/event/report-for-webinar-on-digital-marketing-and-freelancing/
X-WR-CALDESC:Report for Webinar on “Digital Marketing and Freelancing”
BEGIN:VEVENT
DTSTART:
DTEND:
SUMMARY:Report for Webinar on “Digital Marketing and Freelancing”
DESCRIPTION:Report for Webinar on “Digital Marketing and Freelancing”
LOCATION:
END:VEVENT
END:VCALENDAR
