BEGIN:VCALENDAR
VERSION:2.0
PRODID:-//Geethanjali
CALSCALE:GREGORIAN
METHOD:PUBLISH
X-WR-CALNAME:Geethanjali
X-ORIGINAL-URL:https://gist.edu.in/gist/event/report-for-webinar-on-how-to-get-prepared-for-placements-amidst-pandemic/
X-WR-CALDESC:Report for Webinar on “How to get prepared for placements amidst pandemic”
BEGIN:VEVENT
DTSTART:
DTEND:
SUMMARY:Report for Webinar on “How to get prepared for placements amidst pandemic”
DESCRIPTION:Report for Webinar on “How to get prepared for placements amidst pandemic”
LOCATION:
END:VEVENT
END:VCALENDAR
