BEGIN:VCALENDAR
VERSION:2.0
PRODID:-//Geethanjali
CALSCALE:GREGORIAN
METHOD:PUBLISH
X-WR-CALNAME:Geethanjali
X-ORIGINAL-URL:https://gist.edu.in/gist/event/report-for-workshop-on-path-to-artificial-intelligence/
X-WR-CALDESC:Report for Workshop on “Path to Artificial Intelligence”
BEGIN:VEVENT
DTSTART:
DTEND:
SUMMARY:Report for Workshop on “Path to Artificial Intelligence”
DESCRIPTION:Report for Workshop on “Path to Artificial Intelligence”


LOCATION:
END:VEVENT
END:VCALENDAR
