BEGIN:VCALENDAR
VERSION:2.0
PRODID:-//Geethanjali
CALSCALE:GREGORIAN
METHOD:PUBLISH
X-WR-CALNAME:Geethanjali
X-ORIGINAL-URL:https://gist.edu.in/gist/event/report-on-3-week-online-workshop-on-python-programming/
X-WR-CALDESC:Report on 3-week Online Workshop  on Python Programming
BEGIN:VEVENT
DTSTART:
DTEND:
SUMMARY:Report on 3-week Online Workshop  on Python Programming
DESCRIPTION:Report on 3-week Online Workshop  on Python Programming 
LOCATION:
END:VEVENT
END:VCALENDAR
