BEGIN:VCALENDAR
VERSION:2.0
PRODID:-//Geethanjali
CALSCALE:GREGORIAN
METHOD:PUBLISH
X-WR-CALNAME:Geethanjali
X-ORIGINAL-URL:https://gist.edu.in/gist/event/a-report-on-webinar-on-career-opportunities-after-b-tech_cse/
X-WR-CALDESC:A Report On webinar on Career Opportunities after B.Tech_CSE
BEGIN:VEVENT
DTSTART:
DTEND:
SUMMARY:A Report On webinar on Career Opportunities after B.Tech_CSE
DESCRIPTION:A Report On webinar on Career Opportunities after B.Tech_CSE
LOCATION:
END:VEVENT
END:VCALENDAR
