BEGIN:VCALENDAR
VERSION:2.0
PRODID:-//Geethanjali
CALSCALE:GREGORIAN
METHOD:PUBLISH
X-WR-CALNAME:Geethanjali
X-ORIGINAL-URL:https://gist.edu.in/gist/event/augumented-reality-and-virtual-reality/
X-WR-CALDESC:Augumented Reality and Virtual Reality
BEGIN:VEVENT
DTSTART:
DTEND:
SUMMARY:Augumented Reality and Virtual Reality
DESCRIPTION:Augumented Reality and Virtual Reality
LOCATION:
END:VEVENT
END:VCALENDAR
