BEGIN:VCALENDAR
VERSION:2.0
PRODID:-//Geethanjali
CALSCALE:GREGORIAN
METHOD:PUBLISH
X-WR-CALNAME:Geethanjali
X-ORIGINAL-URL:https://gist.edu.in/gist/event/data-analysis-using-python/
X-WR-CALDESC:“DATA ANALYSIS USING PYTHON”
BEGIN:VEVENT
DTSTART:
DTEND:
SUMMARY:“DATA ANALYSIS USING PYTHON”
DESCRIPTION:“DATA ANALYSIS USING PYTHON”
LOCATION:
END:VEVENT
END:VCALENDAR
