BEGIN:VCALENDAR
VERSION:2.0
PRODID:-//Geethanjali
CALSCALE:GREGORIAN
METHOD:PUBLISH
X-WR-CALNAME:Geethanjali
X-ORIGINAL-URL:https://gist.edu.in/gist/event/data-analysis-using-python-at-gist/
X-WR-CALDESC:“Data Analysis Using Python” at GIST
BEGIN:VEVENT
DTSTART:
DTEND:
SUMMARY:“Data Analysis Using Python” at GIST
DESCRIPTION:“Data Analysis Using Python” at GIST
LOCATION:
END:VEVENT
END:VCALENDAR
