BEGIN:VCALENDAR
VERSION:2.0
PRODID:-//Geethanjali
CALSCALE:GREGORIAN
METHOD:PUBLISH
X-WR-CALNAME:Geethanjali
X-ORIGINAL-URL:https://gist.edu.in/gist/event/ncatcsit-2015/
X-WR-CALDESC:NCATCSIT-2015
BEGIN:VEVENT
DTSTART:20150814T000000
DTEND:20150814T000000
SUMMARY:NCATCSIT-2015
DESCRIPTION:National Conference on  "Advanced Technologies in Computer Science & Information Technology"
LOCATION:GIST Campus
END:VEVENT
END:VCALENDAR
