BEGIN:VCALENDAR
VERSION:2.0
PRODID:-//Geethanjali
CALSCALE:GREGORIAN
METHOD:PUBLISH
X-WR-CALNAME:Geethanjali
X-ORIGINAL-URL:https://gist.edu.in/gist/event/soft-skills-and-communication-skills-orientation/
X-WR-CALDESC:Soft Skills and Communication Skills Orientation
BEGIN:VEVENT
DTSTART:
DTEND:
SUMMARY:Soft Skills and Communication Skills Orientation
DESCRIPTION:Soft Skills and Communication Skills Orientation
LOCATION:
END:VEVENT
END:VCALENDAR
