BEGIN:VCALENDAR
VERSION:2.0
PRODID:-//Geethanjali
CALSCALE:GREGORIAN
METHOD:PUBLISH
X-WR-CALNAME:Geethanjali
X-ORIGINAL-URL:https://gist.edu.in/gist/event/a-live-webinar-on-implementation-of-national-education-policy-2020/
X-WR-CALDESC:A LIVE WEBINAR ON IMPLEMENTATION OF NATIONAL EDUCATION POLICY, 2020
BEGIN:VEVENT
DTSTART:
DTEND:
SUMMARY:A LIVE WEBINAR ON IMPLEMENTATION OF NATIONAL EDUCATION POLICY, 2020
DESCRIPTION:A LIVE WEBINAR ON IMPLEMENTATION OF NATIONAL EDUCATION POLICY, 2020
LOCATION:
END:VEVENT
END:VCALENDAR
