BEGIN:VCALENDAR
VERSION:2.0
PRODID:-//Geethanjali
CALSCALE:GREGORIAN
METHOD:PUBLISH
X-WR-CALNAME:Geethanjali
X-ORIGINAL-URL:https://gist.edu.in/gist/event/empowering-women-in-sports-2/
X-WR-CALDESC:Empowering Women in Sports
BEGIN:VEVENT
DTSTART:
DTEND:
SUMMARY:Empowering Women in Sports
DESCRIPTION:Empowering Women in Sports
LOCATION:
END:VEVENT
END:VCALENDAR
