BEGIN:VCALENDAR
VERSION:2.0
PRODID:-//Geethanjali
CALSCALE:GREGORIAN
METHOD:PUBLISH
X-WR-CALNAME:Geethanjali
X-ORIGINAL-URL:https://gist.edu.in/gist/event/a-women-empowerment-programme-our-voice-is-our-future/
X-WR-CALDESC:A women empowerment programme -Our voice is our Future
BEGIN:VEVENT
DTSTART:
DTEND:
SUMMARY:A women empowerment programme -Our voice is our Future
DESCRIPTION:A women empowerment programme -Our voice is our Future
LOCATION:
END:VEVENT
END:VCALENDAR
