BEGIN:VCALENDAR
VERSION:2.0
PRODID:-//Geethanjali
CALSCALE:GREGORIAN
METHOD:PUBLISH
X-WR-CALNAME:Geethanjali
X-ORIGINAL-URL:https://gist.edu.in/gist/event/aws-technical-essentials-online/
X-WR-CALDESC:AWS TECHNICAL ESSENTIALS (ONLINE)
BEGIN:VEVENT
DTSTART:
DTEND:
SUMMARY:AWS TECHNICAL ESSENTIALS (ONLINE)
DESCRIPTION:AWS TECHNICAL ESSENTIALS (ONLINE)
LOCATION:
END:VEVENT
END:VCALENDAR
