BEGIN:VCALENDAR
VERSION:2.0
PRODID:-//Geethanjali
CALSCALE:GREGORIAN
METHOD:PUBLISH
X-WR-CALNAME:Geethanjali
X-ORIGINAL-URL:https://gist.edu.in/gist/event/report-for-fdp-on-python/
X-WR-CALDESC:Report for FDP on “PYTHON”
BEGIN:VEVENT
DTSTART:
DTEND:
SUMMARY:Report for FDP on “PYTHON”
DESCRIPTION:Report for FDP on “PYTHON”
LOCATION:
END:VEVENT
END:VCALENDAR
