BEGIN:VCALENDAR
VERSION:2.0
PRODID:-//Geethanjali
CALSCALE:GREGORIAN
METHOD:PUBLISH
X-WR-CALNAME:Geethanjali
X-ORIGINAL-URL:https://gist.edu.in/gist/event/one-week-online-workshop-on-drone-technology/
X-WR-CALDESC:One week online workshop on “Drone Technology”
BEGIN:VEVENT
DTSTART:
DTEND:
SUMMARY:One week online workshop on “Drone Technology”
DESCRIPTION:One week online workshop on “Drone Technology” at GIST
LOCATION:
END:VEVENT
END:VCALENDAR
