BEGIN:VCALENDAR
VERSION:2.0
PRODID:-//Geethanjali
CALSCALE:GREGORIAN
METHOD:PUBLISH
X-WR-CALNAME:Geethanjali
X-ORIGINAL-URL:https://gist.edu.in/gist/event/two-week-online-workshop-on-embedded-systems/
X-WR-CALDESC:Two week online workshop on “Embedded Systems &#8220;
BEGIN:VEVENT
DTSTART:
DTEND:
SUMMARY:Two week online workshop on “Embedded Systems &#8220;
DESCRIPTION:Two week online workshop on “Embedded Systems "
LOCATION:
END:VEVENT
END:VCALENDAR
