BEGIN:VCALENDAR
VERSION:2.0
PRODID:-//Geethanjali
CALSCALE:GREGORIAN
METHOD:PUBLISH
X-WR-CALNAME:Geethanjali
X-ORIGINAL-URL:https://gist.edu.in/gist/event/one-week-online-training-on-cyber-security/
X-WR-CALDESC:One week Online Training on “Cyber Security”
BEGIN:VEVENT
DTSTART:
DTEND:
SUMMARY:One week Online Training on “Cyber Security”
DESCRIPTION:One week Online Training on “Cyber Security”
LOCATION:
END:VEVENT
END:VCALENDAR
