BEGIN:VCALENDAR
VERSION:2.0
PRODID:-//Geethanjali
CALSCALE:GREGORIAN
METHOD:PUBLISH
X-WR-CALNAME:Geethanjali
X-ORIGINAL-URL:https://gist.edu.in/gist/event/report-on-smart-india-hackathon-2020/
X-WR-CALDESC:Report on Smart India Hackathon 2020
BEGIN:VEVENT
DTSTART:
DTEND:
SUMMARY:Report on Smart India Hackathon 2020
DESCRIPTION:Report on Smart India Hackathon 2020
LOCATION:
END:VEVENT
END:VCALENDAR
