BEGIN:VCALENDAR
VERSION:2.0
PRODID:-//Geethanjali
CALSCALE:GREGORIAN
METHOD:PUBLISH
X-WR-CALNAME:Geethanjali
X-ORIGINAL-URL:https://gist.edu.in/gist/event/a-webinar-report-on-preparing-ourselves-to-meet-post-covid-academic-challenges/
X-WR-CALDESC:A Webinar Report on Preparing Ourselves to Meet Post Covid Academic Challenges
BEGIN:VEVENT
DTSTART:
DTEND:
SUMMARY:A Webinar Report on Preparing Ourselves to Meet Post Covid Academic Challenges
DESCRIPTION:A Webinar Report on Preparing Ourselves to Meet Post Covid Academic Challenges
LOCATION:
END:VEVENT
END:VCALENDAR
