BEGIN:VCALENDAR
VERSION:2.0
PRODID:-//Geethanjali
CALSCALE:GREGORIAN
METHOD:PUBLISH
X-WR-CALNAME:Geethanjali
X-ORIGINAL-URL:https://gist.edu.in/gist/event/a-webinar-report-on-engineering-drawing-practices-for-technocrats/
X-WR-CALDESC:A Webinar Report on Engineering Drawing Practices for Technocrats
BEGIN:VEVENT
DTSTART:
DTEND:
SUMMARY:A Webinar Report on Engineering Drawing Practices for Technocrats
DESCRIPTION:A Webinar Report on Engineering Drawing Practices for Technocrats
LOCATION:
END:VEVENT
END:VCALENDAR
