BEGIN:VCALENDAR
VERSION:2.0
PRODID:-//Geethanjali
CALSCALE:GREGORIAN
METHOD:PUBLISH
X-WR-CALNAME:Geethanjali
X-ORIGINAL-URL:https://gist.edu.in/gist/event/webinar-on-effective-role-of-teachers-in-enhancing-standards-of-technical-education/
X-WR-CALDESC:Webinar on Effective role of teachers in Enhancing standards of Technical Education
BEGIN:VEVENT
DTSTART:
DTEND:
SUMMARY:Webinar on Effective role of teachers in Enhancing standards of Technical Education
DESCRIPTION:Webinar on Effective role of teachers in Enhancing standards of Technical Education
LOCATION:
END:VEVENT
END:VCALENDAR
