BEGIN:VCALENDAR
VERSION:2.0
PRODID:-//Geethanjali
CALSCALE:GREGORIAN
METHOD:PUBLISH
X-WR-CALNAME:Geethanjali
X-ORIGINAL-URL:https://gist.edu.in/gist/event/a-6-days-national-level-online-quiz-organized-by-department-of-e-e-e/
X-WR-CALDESC:A 6-Days National Level Online Quiz Organized By Department of E.E.E
BEGIN:VEVENT
DTSTART:
DTEND:
SUMMARY:A 6-Days National Level Online Quiz Organized By Department of E.E.E
DESCRIPTION:A 6-Days National Level Online Quiz Organized By Department of E.E.E
LOCATION:
END:VEVENT
END:VCALENDAR
