BEGIN:VCALENDAR
VERSION:2.0
PRODID:-//Geethanjali
CALSCALE:GREGORIAN
METHOD:PUBLISH
X-WR-CALNAME:Geethanjali
X-ORIGINAL-URL:https://gist.edu.in/gist/event/a-one-day-national-level-online-quiz-organized-by-department-of-e-e-e/
X-WR-CALDESC:A One-Day National Level Online Quiz Organized By Department of E.E.E
BEGIN:VEVENT
DTSTART:
DTEND:
SUMMARY:A One-Day National Level Online Quiz Organized By Department of E.E.E
DESCRIPTION:A One-Day National Level Online Quiz Organized By Department of E.E.E
LOCATION:
END:VEVENT
END:VCALENDAR
