BEGIN:VCALENDAR
VERSION:2.0
PRODID:-//Geethanjali
CALSCALE:GREGORIAN
METHOD:PUBLISH
X-WR-CALNAME:Geethanjali
X-ORIGINAL-URL:https://gist.edu.in/gist/event/a-live-webinar-on-artificial-intelligence-and-machine-learning/
X-WR-CALDESC:A LIVE WEBINAR ON ARTIFICIAL INTELLIGENCE AND MACHINE LEARNING
BEGIN:VEVENT
DTSTART:
DTEND:
SUMMARY:A LIVE WEBINAR ON ARTIFICIAL INTELLIGENCE AND MACHINE LEARNING
DESCRIPTION:A LIVE WEBINAR ON ARTIFICIAL INTELLIGENCE AND MACHINE LEARNING
LOCATION:
END:VEVENT
END:VCALENDAR
