BEGIN:VCALENDAR
VERSION:2.0
PRODID:-//Geethanjali
CALSCALE:GREGORIAN
METHOD:PUBLISH
X-WR-CALNAME:Geethanjali
X-ORIGINAL-URL:https://gist.edu.in/gist/event/a-three-day-fdp-on-recent-trends-in-civil-engineering/
X-WR-CALDESC:A Three day FDP on Recent Trends in Civil Engineering
BEGIN:VEVENT
DTSTART:
DTEND:
SUMMARY:A Three day FDP on Recent Trends in Civil Engineering
DESCRIPTION:A Three day FDP on Recent Trends in Civil Engineering
LOCATION:
END:VEVENT
END:VCALENDAR
