BEGIN:VCALENDAR
VERSION:2.0
PRODID:-//Geethanjali
CALSCALE:GREGORIAN
METHOD:PUBLISH
X-WR-CALNAME:Geethanjali
X-ORIGINAL-URL:https://gist.edu.in/gist/event/water-hammer-hydraulic-surge-analysis/
X-WR-CALDESC:Water hammer/ Hydraulic surge analysis
BEGIN:VEVENT
DTSTART:
DTEND:
SUMMARY:Water hammer/ Hydraulic surge analysis
DESCRIPTION:Water hammer/ Hydraulic surge analysis
LOCATION:
END:VEVENT
END:VCALENDAR
