BEGIN:VCALENDAR
VERSION:2.0
PRODID:-//Geethanjali
CALSCALE:GREGORIAN
METHOD:PUBLISH
X-WR-CALNAME:Geethanjali
X-ORIGINAL-URL:https://gist.edu.in/gist/event/report-on-national-level-e-quiz-on-engineering-mathematics/
X-WR-CALDESC:REPORT ON NATIONAL LEVEL e &#8211; QUIZ ON ENGINEERING MATHEMATICS
BEGIN:VEVENT
DTSTART:
DTEND:
SUMMARY:REPORT ON NATIONAL LEVEL e &#8211; QUIZ ON ENGINEERING MATHEMATICS
DESCRIPTION:REPORT ON NATIONAL LEVEL e - QUIZ ON ENGINEERING MATHEMATICS
LOCATION:
END:VEVENT
END:VCALENDAR
