BEGIN:VCALENDAR
VERSION:2.0
PRODID:-//Geethanjali
CALSCALE:GREGORIAN
METHOD:PUBLISH
X-WR-CALNAME:Geethanjali
X-ORIGINAL-URL:https://gist.edu.in/gist/event/one-day-webinar-overview-on-vlsi/
X-WR-CALDESC:One day  Webinar “Overview on VLSI”
BEGIN:VEVENT
DTSTART:
DTEND:
SUMMARY:One day  Webinar “Overview on VLSI”
DESCRIPTION:One day  Webinar “Overview on VLSI”
LOCATION:
END:VEVENT
END:VCALENDAR
