BEGIN:VCALENDAR
VERSION:2.0
PRODID:-//Geethanjali
CALSCALE:GREGORIAN
METHOD:PUBLISH
X-WR-CALNAME:Geethanjali
X-ORIGINAL-URL:https://gist.edu.in/gist/event/e-conference-on-national-conference-on-emerging-trends-in-engineering-2020-14th-june-2020/
X-WR-CALDESC:E-Conference on “National Conference on Emerging Trends in Engineering- 2020” 14th June, 2020
BEGIN:VEVENT
DTSTART:
DTEND:
SUMMARY:E-Conference on “National Conference on Emerging Trends in Engineering- 2020” 14th June, 2020
DESCRIPTION:E-Conference on “National Conference on Emerging Trends in Engineering- 2020”
14th June, 2020

LOCATION:
END:VEVENT
END:VCALENDAR
