BEGIN:VCALENDAR
VERSION:2.0
PRODID:-//Geethanjali
CALSCALE:GREGORIAN
METHOD:PUBLISH
X-WR-CALNAME:Geethanjali
X-ORIGINAL-URL:https://gist.edu.in/gist/event/report-for-webinar-on-introduction-to-informatica-powercentre/
X-WR-CALDESC:Report for Webinar on “ Introduction to Informatica PowerCentre”
BEGIN:VEVENT
DTSTART:
DTEND:
SUMMARY:Report for Webinar on “ Introduction to Informatica PowerCentre”
DESCRIPTION:Report for Webinar on “ Introduction to Informatica PowerCentre” 
LOCATION:
END:VEVENT
END:VCALENDAR
