BEGIN:VCALENDAR
VERSION:2.0
PRODID:-//Geethanjali
CALSCALE:GREGORIAN
METHOD:PUBLISH
X-WR-CALNAME:Geethanjali
X-ORIGINAL-URL:https://gist.edu.in/gist/event/report-on-5-days-python-workshop/
X-WR-CALDESC:Report On “5 Days Python Workshop”
BEGIN:VEVENT
DTSTART:
DTEND:
SUMMARY:Report On “5 Days Python Workshop”
DESCRIPTION:Report On “5 Days Python Workshop”


LOCATION:
END:VEVENT
END:VCALENDAR
