BEGIN:VCALENDAR
VERSION:2.0
PRODID:-//Geethanjali
CALSCALE:GREGORIAN
METHOD:PUBLISH
X-WR-CALNAME:Geethanjali
X-ORIGINAL-URL:https://gist.edu.in/gist/event/land-survey-using-total-station-certification-course/
X-WR-CALDESC:LAND SURVEY USING TOTAL STATION CERTIFICATION COURSE
BEGIN:VEVENT
DTSTART:
DTEND:
SUMMARY:LAND SURVEY USING TOTAL STATION CERTIFICATION COURSE
DESCRIPTION:LAND SURVEY USING TOTAL STATION CERTIFICATION COURSE
LOCATION:
END:VEVENT
END:VCALENDAR
