BEGIN:VCALENDAR
VERSION:2.0
PRODID:-//Geethanjali
CALSCALE:GREGORIAN
METHOD:PUBLISH
X-WR-CALNAME:Geethanjali
X-ORIGINAL-URL:https://gist.edu.in/gist/event/one-week-faculty-improvement-program-on-internet-of-things/
X-WR-CALDESC:ONE WEEK FACULTY IMPROVEMENT PROGRAM on  Internet of Things
BEGIN:VEVENT
DTSTART:
DTEND:
SUMMARY:ONE WEEK FACULTY IMPROVEMENT PROGRAM on  Internet of Things
DESCRIPTION:ONE WEEK FACULTY IMPROVEMENT PROGRAM on  Internet of Things
LOCATION:
END:VEVENT
END:VCALENDAR
