BEGIN:VCALENDAR
VERSION:2.0
PRODID:-//Geethanjali
CALSCALE:GREGORIAN
METHOD:PUBLISH
X-WR-CALNAME:Geethanjali
X-ORIGINAL-URL:https://gist.edu.in/gist/event/report-on-one-day-arduino-workshop/
X-WR-CALDESC:Report On “One day Arduino workshop”
BEGIN:VEVENT
DTSTART:
DTEND:
SUMMARY:Report On “One day Arduino workshop”
DESCRIPTION:Report On “One day Arduino workshop”
LOCATION:
END:VEVENT
END:VCALENDAR
