BEGIN:VCALENDAR
VERSION:2.0
PRODID:-//Geethanjali
CALSCALE:GREGORIAN
METHOD:PUBLISH
X-WR-CALNAME:Geethanjali
X-ORIGINAL-URL:https://gist.edu.in/gist/event/a-guest-lecture-on-storage-area-network/
X-WR-CALDESC:A Guest lecture on “Storage Area Network”
BEGIN:VEVENT
DTSTART:
DTEND:
SUMMARY:A Guest lecture on “Storage Area Network”
DESCRIPTION:A Guest lecture on “Storage Area Network”
LOCATION:
END:VEVENT
END:VCALENDAR
