BEGIN:VCALENDAR
VERSION:2.0
PRODID:-//Geethanjali
CALSCALE:GREGORIAN
METHOD:PUBLISH
X-WR-CALNAME:Geethanjali
X-ORIGINAL-URL:https://gist.edu.in/gist/event/one-week-hands-on-training-in-python-programming/
X-WR-CALDESC:One-Week Hands on Training in Python Programming
BEGIN:VEVENT
DTSTART:
DTEND:
SUMMARY:One-Week Hands on Training in Python Programming
DESCRIPTION:One-Week Hands on Training in Python Programming
LOCATION:
END:VEVENT
END:VCALENDAR
