BEGIN:VCALENDAR
VERSION:2.0
PRODID:-//Geethanjali
CALSCALE:GREGORIAN
METHOD:PUBLISH
X-WR-CALNAME:Geethanjali
X-ORIGINAL-URL:https://gist.edu.in/gist/event/six-days-workshop-at-gist-on-problem-solving-programming-in-python/
X-WR-CALDESC:SIX DAY’S WORKSHOP AT GIST ON PROBLEM SOLVING &#038; PROGRAMMING IN PYTHON
BEGIN:VEVENT
DTSTART:
DTEND:
SUMMARY:SIX DAY’S WORKSHOP AT GIST ON PROBLEM SOLVING &#038; PROGRAMMING IN PYTHON
DESCRIPTION:SIX DAY’S WORKSHOP AT GIST ON PROBLEM SOLVING & PROGRAMMING IN PYTHON 
LOCATION:
END:VEVENT
END:VCALENDAR
