BEGIN:VCALENDAR
VERSION:2.0
PRODID:-//Geethanjali
CALSCALE:GREGORIAN
METHOD:PUBLISH
X-WR-CALNAME:Geethanjali
X-ORIGINAL-URL:https://gist.edu.in/gist/event/search-engine-optimization-guest-lecture/
X-WR-CALDESC:Search Engine Optimization  Guest Lecture
BEGIN:VEVENT
DTSTART:
DTEND:
SUMMARY:Search Engine Optimization  Guest Lecture
DESCRIPTION:Search Engine Optimization  Guest Lecture
LOCATION:
END:VEVENT
END:VCALENDAR
