BEGIN:VCALENDAR
VERSION:2.0
PRODID:-//Geethanjali
CALSCALE:GREGORIAN
METHOD:PUBLISH
X-WR-CALNAME:Geethanjali
X-ORIGINAL-URL:https://gist.edu.in/gist/event/college-to-corporate-program-c2c-iit-bombay-x-2/
X-WR-CALDESC:COLLEGE TO CORPORATE PROGRAM (C2C) IIT Bombay X
BEGIN:VEVENT
DTSTART:
DTEND:
SUMMARY:COLLEGE TO CORPORATE PROGRAM (C2C) IIT Bombay X
DESCRIPTION:COLLEGE TO CORPORATE PROGRAM (C2C) IIT Bombay X
LOCATION:
END:VEVENT
END:VCALENDAR
