BEGIN:VCALENDAR
VERSION:2.0
PRODID:-//Geethanjali
CALSCALE:GREGORIAN
METHOD:PUBLISH
X-WR-CALNAME:Geethanjali
X-ORIGINAL-URL:https://gist.edu.in/gist/event/cisco-it-essentials/
X-WR-CALDESC:Cisco  IT Essentials
BEGIN:VEVENT
DTSTART:
DTEND:
SUMMARY:Cisco  IT Essentials
DESCRIPTION:Cisco  IT Essentials
LOCATION:
END:VEVENT
END:VCALENDAR
