BEGIN:VCALENDAR
VERSION:2.0
PRODID:-//Geethanjali
CALSCALE:GREGORIAN
METHOD:PUBLISH
X-WR-CALNAME:Geethanjali
X-ORIGINAL-URL:https://gist.edu.in/gist/event/safe-driving-and-its-importance-for-women/
X-WR-CALDESC:Safe Driving and it’s Importance for Women
BEGIN:VEVENT
DTSTART:
DTEND:
SUMMARY:Safe Driving and it’s Importance for Women
DESCRIPTION:Safe Driving and it’s Importance for Women
LOCATION:
END:VEVENT
END:VCALENDAR
