BEGIN:VCALENDAR
VERSION:2.0
PRODID:-//Geethanjali
CALSCALE:GREGORIAN
METHOD:PUBLISH
X-WR-CALNAME:Geethanjali
X-ORIGINAL-URL:https://gist.edu.in/gist/event/awareness-programme-on-women-in-india-their-mental-health/
X-WR-CALDESC:Awareness Programme on Women in India &#038; Their Mental Health
BEGIN:VEVENT
DTSTART:
DTEND:
SUMMARY:Awareness Programme on Women in India &#038; Their Mental Health
DESCRIPTION:Awareness Programme on Women in India & Their Mental Health
LOCATION:
END:VEVENT
END:VCALENDAR
