BEGIN:VCALENDAR
VERSION:2.0
PRODID:-//Geethanjali
CALSCALE:GREGORIAN
METHOD:PUBLISH
X-WR-CALNAME:Geethanjali
X-ORIGINAL-URL:https://gist.edu.in/gist/event/swachh-bharath-rally/
X-WR-CALDESC:Swachh Bharath Rally
BEGIN:VEVENT
DTSTART:
DTEND:
SUMMARY:Swachh Bharath Rally
DESCRIPTION:Swachh Bharath Rally
LOCATION:
END:VEVENT
END:VCALENDAR
